BEGIN:VCALENDAR
VERSION:2.0
PRODID:-//IPICA - ECPv6.15.20//NONSGML v1.0//EN
CALSCALE:GREGORIAN
METHOD:PUBLISH
X-ORIGINAL-URL:https://ipicakids.com
X-WR-CALDESC:Eventos para IPICA
REFRESH-INTERVAL;VALUE=DURATION:PT1H
X-Robots-Tag:noindex
X-PUBLISHED-TTL:PT1H
BEGIN:VTIMEZONE
TZID:America/Indiana/Indianapolis
BEGIN:DAYLIGHT
TZOFFSETFROM:-0500
TZOFFSETTO:-0400
TZNAME:EDT
DTSTART:20190310T070000
END:DAYLIGHT
BEGIN:STANDARD
TZOFFSETFROM:-0400
TZOFFSETTO:-0500
TZNAME:EST
DTSTART:20191103T060000
END:STANDARD
BEGIN:DAYLIGHT
TZOFFSETFROM:-0500
TZOFFSETTO:-0400
TZNAME:EDT
DTSTART:20200308T070000
END:DAYLIGHT
BEGIN:STANDARD
TZOFFSETFROM:-0400
TZOFFSETTO:-0500
TZNAME:EST
DTSTART:20201101T060000
END:STANDARD
BEGIN:DAYLIGHT
TZOFFSETFROM:-0500
TZOFFSETTO:-0400
TZNAME:EDT
DTSTART:20210314T070000
END:DAYLIGHT
BEGIN:STANDARD
TZOFFSETFROM:-0400
TZOFFSETTO:-0500
TZNAME:EST
DTSTART:20211107T060000
END:STANDARD
BEGIN:DAYLIGHT
TZOFFSETFROM:-0500
TZOFFSETTO:-0400
TZNAME:EDT
DTSTART:20220313T070000
END:DAYLIGHT
BEGIN:STANDARD
TZOFFSETFROM:-0400
TZOFFSETTO:-0500
TZNAME:EST
DTSTART:20221106T060000
END:STANDARD
END:VTIMEZONE
BEGIN:VEVENT
DTSTART;TZID=America/Indiana/Indianapolis:20210308T200000
DTEND;TZID=America/Indiana/Indianapolis:20210312T213000
DTSTAMP:20260423T113151
CREATED:20210221T222842Z
LAST-MODIFIED:20210221T222857Z
UID:502-1615233600-1615584600@ipicakids.com
SUMMARY:Celebración  Dia Internacional de la Mujer 2021
DESCRIPTION:  \nEl Día Internacional de la Mujer es una oportunidad para reflexionar sobre el progreso logrado en la implementación de políticas culturales relacionadas a los derechos humanos y la igualdad de género. Es también una oportunidad para dar forma a nuestros sueños de un mejor futuro para las generaciones futuras de mujeres y hombres. \nEste año\, la asociación  IPICA Inc. y la Comunidad de Emprendedoras Latinas en Indiana\, ​​ celebrará  el Día Internacional de la Mujer  por tal motivbo deseamos   hacer presente la  invitacion  en forma especial  a la Mujer emprendedora \, profesional o ama de casa  que desee  unirse y participar de  un evento enfocado en destacar y reunir el testimonio de mujeres valientes que han contribuido a la igualdad para otras mujeres y niñas. \nEl evento virtual  se llevara a cabo   en la semana del 8  hasta el 12 de marzo de 2021 a las 8pm hasta 9:30 pm. \n  \n \n  \nLas ponentes invitadas son las mentoras y coach de la comunidad de ELI (Emprendedoras Latinas en Indiana): \n\nAna Cecilia Rodriguez\nDiana Gibu\nLinette Ortiz\nLucy Intriago\nCelinda Fuente\nEstela Calva\nJuanita Hernandez\nBarby Ruvalcaba\nEren Toledo\nYolanda Reyna\nAngeles Reyes\nPatricia Meneses  e invitadas especiales.\n\n \nHemos Organizado  diferentes  actividades consistentes en webinar\,  conferencias y testimonios  con el objeto de formar y sensibilizar a toda la comunidad en  el rol de la  mujeres  latinas  emprendedoras. \nLa celebración es  virtual sera  por zoom transmitida por facebook live  del fan page Emprendedoras Latinas en Indiana . \nNo te olvides\, Apuntalo en tu agenda  este 8 de Marzo a las 8 pm en la pagina  Emprendedoras Latinas en Indiana haremos la transmission de facebook live. \nLos esperamos. \n 
URL:https://ipicakids.com/event/celebracion-dia-internacional-de-la-mujer-2021/
CATEGORIES:Conferencias
ORGANIZER;CN="IPICA":MAILTO:ipica-indyperu@hotmail.com
END:VEVENT
BEGIN:VEVENT
DTSTART;TZID=America/Indiana/Indianapolis:20201020T080000
DTEND;TZID=America/Indiana/Indianapolis:20201215T170000
DTSTAMP:20260423T113151
CREATED:20201020T130516Z
LAST-MODIFIED:20211020T130911Z
UID:572-1603180800-1608051600@ipicakids.com
SUMMARY:Navidad Latina 2020
DESCRIPTION:[vc_row][vc_column width=”1/12″][/vc_column][vc_column width=”5/6″][vc_custom_heading text=”Una invitación de IPICA” font_container=”tag:h1|text_align:left” google_fonts=”font_family:Roboto%20Slab%3A100%2C300%2Cregular%2C700|font_style:300%20light%20regular%3A300%3Anormal” css=”.vc_custom_1606243470886{margin-bottom: -5px !important;}”][vc_custom_heading text=”Para disfrutar la magia de la navidad” font_container=”tag:h1|font_size:40px|text_align:left|color:%233a4c59″ google_fonts=”font_family:Roboto%20Slab%3A100%2C300%2Cregular%2C700|font_style:700%20bold%20regular%3A700%3Anormal”][vc_column_text] \nEl Programa Navidad Latina llamado #Navidaddelacultura se realiza desde el año 2019 y consta de presentar diversas actividades artísticas los bailes tradicionales culturales de los pueblos hispanos con alegría y color para beneficiar a varias familias con bajos recursos en esta fecha tan emotiva y de unión familiar\, con el apoyo de nuestros ángeles voluntarios y patrocinadores. \nEs por ello que en esta oportunidad por Navidad Latina 2020 brindaremos un “Show Navideño Virtual” el día Sábado 19 de diciembre de 03- 05pm \, donde sortearemos regalos y muchas sorpresas más. \nEntre los días 20 -21-22 de diciembre se entregarán los regalos a los 200 niños que se han registrado previamente en nuestro formulario digital. \nPor lo cual a continuación le detallamos la guía para el recojo de los regalos para los beneficiarios por nuestros ángeles voluntarios: \n\nDesde el 17 de diciembre estar atento a sus correos y números telefónicos para la comunicación de fecha de entrega\nLos días de las fechas de entrega de los regalos serán entre el 20\, 21 y 22 de diciembre desde las 10:00 am hasta las 03:00pm\n\n[/vc_column_text][vc_custom_heading text=”Formulario de Registro” font_container=”tag:h1|text_align:left” google_fonts=”font_family:Roboto%20Slab%3A100%2C300%2Cregular%2C700|font_style:300%20light%20regular%3A300%3Anormal”][vc_custom_heading text=”Llenar los siguientes datos del siguiente formulario para el control de nuestro registro de las entregas de los regalos:” font_container=”tag:p|text_align:left” use_theme_fonts=”yes” css=”.vc_custom_1606243654494{padding-bottom: 5px !important;}”]\n\n  \n\n\n\n\n\n	\n		Nombres de la madre / padre / guardián legal *\n		 \n	\n\n\n	\n		Teléfono *\n		 \n	\n	\n		Correo *\n		 \n	\n\n\n	\n		Yo autorizo a que tomen las fotografías a mi menor hijo de edad recibiendo su regalo entregado o transmisión durante el show virtual navideño *\nSíNo\n		 \n	\n\n\n	\n		Nombres del niño (a) *\n		 \n	\n\n\n	\n		Edad del niño (a) *\n		 \n	\n	\n		Sexo *\nMasculinoFemenino\n		 \n	\n\n\n	\n		\n		 \n	\n\n\n\n\n\n[/vc_column][vc_column width=”1/12″][/vc_column][/vc_row]
URL:https://ipicakids.com/event/navidad-latina-2020/
END:VEVENT
END:VCALENDAR